BEGIN:VCALENDAR
VERSION:2.0
PRODID:-//The Council of State Governments - ECPv5.6.0//NONSGML v1.0//EN
CALSCALE:GREGORIAN
METHOD:PUBLISH
X-WR-CALNAME:The Council of State Governments
X-ORIGINAL-URL:https://www.csg.org
X-WR-CALDESC:Events for The Council of State Governments
BEGIN:VTIMEZONE
TZID:UTC
BEGIN:STANDARD
TZOFFSETFROM:+0000
TZOFFSETTO:+0000
TZNAME:UTC
DTSTART:20210101T000000
END:STANDARD
END:VTIMEZONE
BEGIN:VEVENT
DTSTART;TZID=UTC:20210822T080000
DTEND;TZID=UTC:20210826T170000
DTSTAMP:20210720T194338
CREATED:20210406T171716Z
LAST-MODIFIED:20210406T180605Z
UID:2148-1629619200-1629997200@www.csg.org
SUMMARY:CSG East Robert J. Thompson Eastern Leadership Academy
DESCRIPTION:Each year the ELA brings together a class of 30 selected state officials for five days of intensive training with experts in communications\, government\, and policy development. Created in in coordination with the Fels Institute of Government at the University of Pennsylvania\, the program includes lectures with award-winning Penn faculty and hands-on workshops in media relations\, negotiation skills\, and public speaking. The program is carefully tailored to help each class of public officials take their leadership skills to the next level. Go to the Robert J Thompson Eastern Leadership Academy web page for more information and to download the program application. The application deadline is May 15\, 2021.
URL:https://www.csg.org/event/csg-east-robert-j-thompson-eastern-leadership-academy/
LOCATION:Philadelphia\, PA\, Philadelphia\, PA\, United States
CATEGORIES:CSG Regional Event
ORGANIZER;CN="The%20Council%20of%20State%20Governments%20%7C%20East":MAILTO:info@csg-erc.org
END:VEVENT
END:VCALENDAR